BEGIN:VCALENDAR
VERSION:2.0
PRODID:-//ChamberMaster//Event Calendar 2.0//EN
METHOD:PUBLISH
X-PUBLISHED-TTL:P3D
REFRESH-INTERVAL:P3D
CALSCALE:GREGORIAN
BEGIN:VEVENT
DTSTART:20260425T143000Z
DTEND:20260425T160000Z
X-MICROSOFT-CDO-ALLDAYEVENT:FALSE
SUMMARY:Finding Common Grounds in Parkinson's
DESCRIPTION:Join Houston Area Parkinson Society (HAPS) for Common Grounds\, a meet and greet event intended to bring the local Parkinson's community together over coffee and pastries in a fun\, yet relaxed environment. It offers an opportunity to connect with others living with Parkinson's\, their families\, care partners\, and HAPS staff. Coffee\, connection and community are provided.
X-ALT-DESC;FMTTYPE=text/html:Join Houston Area Parkinson Society (HAPS) for Common Grounds\, a meet and greet event intended to bring the local Parkinson&#39\;s community together over coffee and pastries in a fun\, yet relaxed environment. It offers an opportunity to connect with others living with Parkinson&#39\;s\, their families\, care partners\, and HAPS staff. Coffee\, connection and community are provided.
LOCATION:Parkgate Community Church 3715 Preston Avenue Pasadena\, TX 77505
UID:e.3356.10116181
SEQUENCE:3
DTSTAMP:20260423T172033Z
URL:https://www.pasadenachamber.org/events/details/finding-common-grounds-in-parkinson-s-10116181
END:VEVENT

END:VCALENDAR
